BEGIN:VCALENDAR
VERSION:2.0
PRODID:-//Devpost\, Inc.//IDEA Hacks 2026//EN
CALSCALE:GREGORIAN
BEGIN:VTIMEZONE
TZID:America/Denver
BEGIN:DAYLIGHT
DTSTART:20260308T030000
TZOFFSETFROM:-0700
TZOFFSETTO:-0600
RRULE:FREQ=YEARLY;BYDAY=2SU;BYMONTH=3
TZNAME:MDT
END:DAYLIGHT
BEGIN:STANDARD
DTSTART:20261101T010000
TZOFFSETFROM:-0600
TZOFFSETTO:-0700
RRULE:FREQ=YEARLY;BYDAY=1SU;BYMONTH=11
TZNAME:MST
END:STANDARD
END:VTIMEZONE
BEGIN:VEVENT
DTSTAMP:20260425T110648Z
UID:c026ca8a-5222-4f1b-940c-2d26012bedfd
DTSTART;TZID=America/Denver:20260424T220000
DTEND;TZID=America/Denver:20260426T090000
DESCRIPTION:https://idea-hacks-2026.devpost.com/
LOCATION:404 Westwood Plaza\, Los Angeles\, CA 90095\, USA
SUMMARY:IDEA Hacks 2026
BEGIN:VALARM
ACTION:DISPLAY
TRIGGER:-P3D
SUMMARY:Get ready\, the hacking starts in 3 days.
END:VALARM
END:VEVENT
END:VCALENDAR
